BEGIN:VCALENDAR
VERSION:2.0
PRODID:-//CA Rosé - ECPv6.15.14//NONSGML v1.0//EN
CALSCALE:GREGORIAN
METHOD:PUBLISH
X-ORIGINAL-URL:https://xn--ca-ros-gva.ch
X-WR-CALDESC:Évènements pour CA Rosé
REFRESH-INTERVAL;VALUE=DURATION:PT1H
X-Robots-Tag:noindex
X-PUBLISHED-TTL:PT1H
BEGIN:VTIMEZONE
TZID:UTC
BEGIN:STANDARD
TZOFFSETFROM:+0000
TZOFFSETTO:+0000
TZNAME:UTC
DTSTART:20240101T000000
END:STANDARD
END:VTIMEZONE
BEGIN:VEVENT
DTSTART;VALUE=DATE:20251101
DTEND;VALUE=DATE:20251102
DTSTAMP:20260420T112500
CREATED:20250302T201935Z
LAST-MODIFIED:20250302T201935Z
UID:335-1761955200-1762041599@xn--ca-ros-gva.ch
SUMMARY:Arrosoir Réserve - Coupe Vaudoise CARE-Vevey
DESCRIPTION:Datum:\nSa 01.11.2025\n\n\nRegion:\nSR\n\n\nClub:\nCARE-Vevey Orientation\n\n\nKarte:\nLuan-sur-Corbeyrier\n\n\nOrt:\nLuan-sur-Corbeyrier\n\n\n\nPlus d’infos: https://www.care-vevey-orientation.ch/
URL:https://xn--ca-ros-gva.ch/event/arrosoir-reserve-coupe-vaudoise-care-vevey/
END:VEVENT
BEGIN:VEVENT
DTSTART;TZID=UTC:20251128T180000
DTEND;TZID=UTC:20251128T223000
DTSTAMP:20260420T112500
CREATED:20251102T093943Z
LAST-MODIFIED:20251102T093943Z
UID:605-1764352800-1764369000@xn--ca-ros-gva.ch
SUMMARY:Fribourg by Night
DESCRIPTION:
URL:https://xn--ca-ros-gva.ch/event/fribourg-by-night-2/
LOCATION:Brünisried\, Brünisired\, Fribourg\, Switzerland
END:VEVENT
END:VCALENDAR